BEGIN:VCALENDAR
METHOD:PUBLISH
VERSION:2.0
CALSCALE:GREGORIAN
PRODID:-//NONSGML Sandhills Development\, LLC//NONSGML Sugar Calendar Fe
 eds v3.7.3//EN
X-WR-CALNAME:Herts Go Green and Grow
X-WR-CALDESC:Hertstogether
X-WR-TIMEZONE:UTC
BEGIN:VTIMEZONE
TZID:UTC
BEGIN:STANDARD
TZOFFSETFROM:+0000
TZOFFSETTO:+0000
DTSTART:20251201T000000
TZNAME:UTC
END:STANDARD
END:VTIMEZONE
BEGIN:VTIMEZONE
TZID:Europe/London
BEGIN:DAYLIGHT
TZOFFSETFROM:+0000
TZOFFSETTO:+0100
DTSTART:20260329T010000
TZNAME:BST
END:DAYLIGHT
END:VTIMEZONE
BEGIN:VEVENT
SUMMARY:Herts Go Green and Grow
DESCRIPTION:Herts Go Green and Grow Workshop\n\nContinue the sustainabil
 ity conversation with further insights and expert updates.\nMember: Free
  | Non-member: £15 + VAT
URL;VALUE=URI:https://hertstogether.org.uk/events/herts-go-green-and-gro
 w/
UID:urn:uuid:867a7a14-8490-4402-bffc-1a25b8c601d6
STATUS:CONFIRMED
ORGANIZER:
DTSTAMP:20260421T194241Z
DTSTART;TZID=Europe/London:20260601T120000
DTEND;TZID=Europe/London:20260601T130000
END:VEVENT
END:VCALENDAR