BEGIN:VCALENDAR
METHOD:PUBLISH
VERSION:2.0
CALSCALE:GREGORIAN
PRODID:-//NONSGML Sandhills Development\, LLC//NONSGML Sugar Calendar Fe
 eds v3.7.3//EN
X-WR-CALNAME:The Music of Ronnie Scott & Tubby Hayes - Celebrated by The
  Purcell School with Special Guest Simon Spillett Also featuring Mark Ni
 ghtingale
X-WR-CALDESC:Hertstogether
X-WR-TIMEZONE:UTC
BEGIN:VTIMEZONE
TZID:UTC
BEGIN:STANDARD
TZOFFSETFROM:+0000
TZOFFSETTO:+0000
DTSTART:20250923T073000
TZNAME:UTC
END:STANDARD
END:VTIMEZONE
BEGIN:VTIMEZONE
TZID:Europe/London
BEGIN:STANDARD
TZOFFSETFROM:+0100
TZOFFSETTO:+0000
DTSTART:20251026T010000
TZNAME:GMT
END:STANDARD
END:VTIMEZONE
BEGIN:VEVENT
SUMMARY:The Music of Ronnie Scott & Tubby Hayes - Celebrated by The Purc
 ell School with Special Guest Simon Spillett Also featuring Mark Nightin
 gale
DESCRIPTION:Two giants of British jazz take centre stage in this vibrant
  celebration of the music of Ronnie Scott and Tubby Hayes — pioneers w
 hose partnership and friendship helped define the sound of British jazz 
 in the 1950s and 60s. This special concert sees acclaimed saxophonist Si
 mon Spillett join forces with The Purcell School Jazz Ensembles and Big 
 Band\, alongside guest trombonist Mark Nightingale\, for an exhilarating
  programme drawn from the Tubby Hayes Big Band library and the iconic Ja
 zz Couriers repertoire.\n\n&nbsp\;\n\nTickets:\n\nhttps://watfordpalacet
 heatre.co.uk/events/the-music-of-ronnie-scott-and-tubby-hayes-the-purcel
 l-school-with-special-guest-simon-spillett/\n\n&nbsp\;
URL;VALUE=URI:https://hertstogether.org.uk/events/the-music-of-ronnie-sc
 ott-tubby-hayes-celebrated-by-the-purcell-school-with-special-guest-simo
 n-spillett-also-featuring-mark-nightingale/
UID:urn:uuid:a78e6b33-05f2-479a-874c-02ebf5fe7d60
STATUS:CONFIRMED
ORGANIZER:
DTSTAMP:20260420T070421Z
DTSTART;TZID=Europe/London:20260324T193000
DTEND;TZID=Europe/London:20260324T220000
END:VEVENT
END:VCALENDAR