BEGIN:VCALENDAR
METHOD:PUBLISH
VERSION:2.0
CALSCALE:GREGORIAN
PRODID:-//NONSGML Sandhills Development\, LLC//NONSGML Sugar Calendar Fe
 eds v3.7.3//EN
X-WR-CALNAME:Young Business Professionals Networking Breakfast (Under 35
 s)
X-WR-CALDESC:Hertstogether
X-WR-TIMEZONE:UTC
BEGIN:VTIMEZONE
TZID:UTC
BEGIN:STANDARD
TZOFFSETFROM:+0000
TZOFFSETTO:+0000
DTSTART:20251111T200000
TZNAME:UTC
END:STANDARD
END:VTIMEZONE
BEGIN:VTIMEZONE
TZID:Europe/London
BEGIN:DAYLIGHT
TZOFFSETFROM:+0000
TZOFFSETTO:+0100
DTSTART:20260329T010000
TZNAME:BST
END:DAYLIGHT
END:VTIMEZONE
BEGIN:VEVENT
SUMMARY:Young Business Professionals Networking Breakfast (Under 35s)
DESCRIPTION:Young Business Professionals Networking Breakfast (Under 35s
 )\n\nDevelop your networking\, presentation\, and interpersonal skills i
 n a supportive environment.\nMember: £25 + VAT | Non-member: £40 + VAT
URL;VALUE=URI:https://hertstogether.org.uk/events/young-business-profess
 ionals-networking-breakfast-under-35s/
UID:urn:uuid:deeb4d3e-c699-4409-a94d-a4e776c6a1a3
STATUS:CONFIRMED
ORGANIZER:
DTSTAMP:20260421T124029Z
DTSTART;TZID=Europe/London:20260513T080000
DTEND;TZID=Europe/London:20260513T100000
LOCATION:York House
END:VEVENT
END:VCALENDAR